BEGIN:VCALENDAR
VERSION:2.0
PRODID:-//SPÖ Bezirksorganisation Grieskirchen/Eferding - ECPv6.15.20//NONSGML v1.0//EN
CALSCALE:GREGORIAN
METHOD:PUBLISH
X-WR-CALNAME:SPÖ Bezirksorganisation Grieskirchen/Eferding
X-ORIGINAL-URL:https://grieskirchen-eferding.spooe.at
X-WR-CALDESC:Veranstaltungen für SPÖ Bezirksorganisation Grieskirchen/Eferding
REFRESH-INTERVAL;VALUE=DURATION:PT1H
X-Robots-Tag:noindex
X-PUBLISHED-TTL:PT1H
BEGIN:VTIMEZONE
TZID:Europe/Vienna
BEGIN:DAYLIGHT
TZOFFSETFROM:+0100
TZOFFSETTO:+0200
TZNAME:CEST
DTSTART:20180325T010000
END:DAYLIGHT
BEGIN:STANDARD
TZOFFSETFROM:+0200
TZOFFSETTO:+0100
TZNAME:CET
DTSTART:20181028T010000
END:STANDARD
BEGIN:DAYLIGHT
TZOFFSETFROM:+0100
TZOFFSETTO:+0200
TZNAME:CEST
DTSTART:20190331T010000
END:DAYLIGHT
BEGIN:STANDARD
TZOFFSETFROM:+0200
TZOFFSETTO:+0100
TZNAME:CET
DTSTART:20191027T010000
END:STANDARD
BEGIN:DAYLIGHT
TZOFFSETFROM:+0100
TZOFFSETTO:+0200
TZNAME:CEST
DTSTART:20200329T010000
END:DAYLIGHT
BEGIN:STANDARD
TZOFFSETFROM:+0200
TZOFFSETTO:+0100
TZNAME:CET
DTSTART:20201025T010000
END:STANDARD
END:VTIMEZONE
BEGIN:VEVENT
DTSTART;TZID=Europe/Vienna:20190127T103000
DTEND;TZID=Europe/Vienna:20190127T103000
DTSTAMP:20260423T220853
CREATED:20190109T120549Z
LAST-MODIFIED:20190109T120549Z
UID:1898-1548585000-1548585000@grieskirchen-eferding.spooe.at
SUMMARY:Neujahrsmatinee der SP Frauen OÖ
DESCRIPTION:Demokratie in Gefahr! \nNeujahrsmatinee der SPÖ Frauen \n  \nAm Sonntag\, 27. Jänner\, um 10.30 Uhr\, laden die SPÖ Frauen Oberösterreich zu einer Neujahrsmatinee in das Café Central in Linz ein. „Es ist liebgewordene Tradition\, beim Neujahrsempfang der SPÖ Frauen gemeinsam das neue Frauen-Jahr zu beginnen“\, sagt Sabine Promberger (Vorsitzende der SPÖ Frauen OÖ). Es sei wichtig\, abseits der tagesaktuellen Hektik ein paar gemütliche Stunden miteinander zu verbringen. Austausch und Vernetzung stehen dabei im Vordergrund. \n  \nAls Rednerin konnten die SPÖ Frauen die Journalistin\, Schriftstellerin und Omas-gegen-Rechts-Aktivistin Dr.in Susanne Scholl gewinnen. Sie wird mit einer Lesung aus „Wachtraum“ Bezug zur aktuellen politischen Situation herstellen und damit zu einer anschließenden Diskussion anregen. Abschließend wird zu einem Ausklang bei Buffet & Gespräch eingeladen. \n \nZahlreiche BesucherInnen bei der Neujahrsmatinee im Vorjahr \nFotocredit: SPÖ Frauen OÖ
URL:https://grieskirchen-eferding.spooe.at/termin/neujahrsmatinee-der-sp-frauen-ooe/
ATTACH;FMTTYPE=image/jpeg:https://grieskirchen-eferding.spooe.at/wp-content/uploads/sites/6/2019/01/NJE-2018.jpg
END:VEVENT
END:VCALENDAR