BEGIN:VCALENDAR
VERSION:2.0
PRODID:-//SPÖ Bezirksorganisation Grieskirchen/Eferding - ECPv6.15.20//NONSGML v1.0//EN
CALSCALE:GREGORIAN
METHOD:PUBLISH
X-ORIGINAL-URL:https://grieskirchen-eferding.spooe.at
X-WR-CALDESC:Veranstaltungen für SPÖ Bezirksorganisation Grieskirchen/Eferding
REFRESH-INTERVAL;VALUE=DURATION:PT1H
X-Robots-Tag:noindex
X-PUBLISHED-TTL:PT1H
BEGIN:VTIMEZONE
TZID:Europe/Vienna
BEGIN:DAYLIGHT
TZOFFSETFROM:+0100
TZOFFSETTO:+0200
TZNAME:CEST
DTSTART:20170326T010000
END:DAYLIGHT
BEGIN:STANDARD
TZOFFSETFROM:+0200
TZOFFSETTO:+0100
TZNAME:CET
DTSTART:20171029T010000
END:STANDARD
BEGIN:DAYLIGHT
TZOFFSETFROM:+0100
TZOFFSETTO:+0200
TZNAME:CEST
DTSTART:20180325T010000
END:DAYLIGHT
BEGIN:STANDARD
TZOFFSETFROM:+0200
TZOFFSETTO:+0100
TZNAME:CET
DTSTART:20181028T010000
END:STANDARD
BEGIN:DAYLIGHT
TZOFFSETFROM:+0100
TZOFFSETTO:+0200
TZNAME:CEST
DTSTART:20190331T010000
END:DAYLIGHT
BEGIN:STANDARD
TZOFFSETFROM:+0200
TZOFFSETTO:+0100
TZNAME:CET
DTSTART:20191027T010000
END:STANDARD
END:VTIMEZONE
BEGIN:VEVENT
DTSTART;TZID=Europe/Vienna:20180504T000000
DTEND;TZID=Europe/Vienna:20180504T000000
DTSTAMP:20260421T220108
CREATED:20180425T081845Z
LAST-MODIFIED:20180425T081845Z
UID:1712-1525392000-1525392000@grieskirchen-eferding.spooe.at
SUMMARY:Tag der Sonne
DESCRIPTION:
URL:https://grieskirchen-eferding.spooe.at/termin/tag-der-sonne/
END:VEVENT
BEGIN:VEVENT
DTSTART;TZID=Europe/Vienna:20180526T130000
DTEND;TZID=Europe/Vienna:20180526T130000
DTSTAMP:20260421T220108
CREATED:20180404T104243Z
LAST-MODIFIED:20180404T104243Z
UID:1634-1527339600-1527339600@grieskirchen-eferding.spooe.at
SUMMARY:Stöbelturnier in Gallspach
DESCRIPTION:
URL:https://grieskirchen-eferding.spooe.at/termin/stoebelturnier-in-gallspach-2/
END:VEVENT
BEGIN:VEVENT
DTSTART;TZID=Europe/Vienna:20180526T200000
DTEND;TZID=Europe/Vienna:20180526T200000
DTSTAMP:20260421T220108
CREATED:20180416T111457Z
LAST-MODIFIED:20180416T111457Z
UID:1694-1527364800-1527364800@grieskirchen-eferding.spooe.at
SUMMARY:So(l)l i fortgeh'?
DESCRIPTION:
URL:https://grieskirchen-eferding.spooe.at/termin/soll-i-fortgeh/
END:VEVENT
BEGIN:VEVENT
DTSTART;TZID=Europe/Vienna:20180529T190000
DTEND;TZID=Europe/Vienna:20180529T190000
DTSTAMP:20260421T220108
CREATED:20180517T193357Z
LAST-MODIFIED:20180517T193516Z
UID:1739-1527620400-1527620400@grieskirchen-eferding.spooe.at
SUMMARY:Klubbesuch am 29. Mai 2018
DESCRIPTION:
URL:https://grieskirchen-eferding.spooe.at/termin/klubbesuch-am-29-mai-2018/
END:VEVENT
END:VCALENDAR