BEGIN:VCALENDAR
VERSION:2.0
PRODID:-//SPÖ Bezirksorganisation Grieskirchen/Eferding - ECPv6.15.20//NONSGML v1.0//EN
CALSCALE:GREGORIAN
METHOD:PUBLISH
X-ORIGINAL-URL:https://grieskirchen-eferding.spooe.at
X-WR-CALDESC:Veranstaltungen für SPÖ Bezirksorganisation Grieskirchen/Eferding
REFRESH-INTERVAL;VALUE=DURATION:PT1H
X-Robots-Tag:noindex
X-PUBLISHED-TTL:PT1H
BEGIN:VTIMEZONE
TZID:Europe/Vienna
BEGIN:DAYLIGHT
TZOFFSETFROM:+0100
TZOFFSETTO:+0200
TZNAME:CEST
DTSTART:20170326T010000
END:DAYLIGHT
BEGIN:STANDARD
TZOFFSETFROM:+0200
TZOFFSETTO:+0100
TZNAME:CET
DTSTART:20171029T010000
END:STANDARD
BEGIN:DAYLIGHT
TZOFFSETFROM:+0100
TZOFFSETTO:+0200
TZNAME:CEST
DTSTART:20180325T010000
END:DAYLIGHT
BEGIN:STANDARD
TZOFFSETFROM:+0200
TZOFFSETTO:+0100
TZNAME:CET
DTSTART:20181028T010000
END:STANDARD
BEGIN:DAYLIGHT
TZOFFSETFROM:+0100
TZOFFSETTO:+0200
TZNAME:CEST
DTSTART:20190331T010000
END:DAYLIGHT
BEGIN:STANDARD
TZOFFSETFROM:+0200
TZOFFSETTO:+0100
TZNAME:CET
DTSTART:20191027T010000
END:STANDARD
END:VTIMEZONE
BEGIN:VEVENT
DTSTART;TZID=Europe/Vienna:20180608T200000
DTEND;TZID=Europe/Vienna:20180608T200000
DTSTAMP:20260423T000817
CREATED:20180430T071307Z
LAST-MODIFIED:20180430T071716Z
UID:1719-1528488000-1528488000@grieskirchen-eferding.spooe.at
SUMMARY:Kabarett in Natternbach
DESCRIPTION:Christof Spörk – Am Ende des Tages \nDeppat gscheites Musikkabarett aus Österreich \n  \nLeute! Vergesst doch bitte die paar Probleme\, die wir gerade haben. Sonst kriegen die noch Kinder. Jetzt mal unter uns: Ich bin mir sicher. Das kriegen wir schon irgendwie hin. Letztendlich zählt doch die ganz große Vision! Und falls die Welt wirklich aus den Fugen gerät? Mein Gott\, man kann immer noch Fußball schauen\, Rasenmähen oder Kinder machen. Die haben dann zumindest was zum Ausbaden. Am Ende des Tages. \nChristof Spörk begann 2011 seine Solokarriere als Musikkabarettist mit dem Programm „Lieder der Berge“ und gewann im selben Jahr den „Österreichischen Kabarettpreis in der Kategorie Programm“. 2013 folgte „Edelschrott“\, das 2014 mit dem „Salzburger Stier“ ausgezeichnet wurde. Mit seinem dritten Programm „Ebenholz“\, seinem bisher meistgespielten Programm\, gewann er 2015 den „Silbernen Stuttgarter Besen“. \nDie SPÖ Natternbach freut sich diesen im deutschsprachigen Raum sehr erfolgreichen Künstler für einen Auftritt in unserer Gemeinde engagiert zu haben. \nTermin: Freitag\, 8. Juni 2018 im IKUNA Naturressort Natternbach \nVorverkaufskarten um € 17\,- erhältlich in der Trafik Wimmer\, Sparkasse\, Raika und bei SPÖ-Mitgliedern \nVeranstalter: SPÖ Ortsorganisation Natternbach
URL:https://grieskirchen-eferding.spooe.at/termin/kabarett-in-natternbach/
END:VEVENT
BEGIN:VEVENT
DTSTART;TZID=Europe/Vienna:20180616T080000
DTEND;TZID=Europe/Vienna:20180629T235900
DTSTAMP:20260423T000817
CREATED:20180620T082322Z
LAST-MODIFIED:20180620T082322Z
UID:1801-1529136000-1530316740@grieskirchen-eferding.spooe.at
SUMMARY:Mitgliederbefragung vom 16. bis 29. Juni 2018
DESCRIPTION:
URL:https://grieskirchen-eferding.spooe.at/termin/mitgliederbefragung-vom-16-bis-29-juni-2018/
END:VEVENT
BEGIN:VEVENT
DTSTART;TZID=Europe/Vienna:20180622T190000
DTEND;TZID=Europe/Vienna:20180622T190000
DTSTAMP:20260423T000817
CREATED:20180606T103605Z
LAST-MODIFIED:20180606T103605Z
UID:1777-1529694000-1529694000@grieskirchen-eferding.spooe.at
SUMMARY:Sonnwendfeuer in Hartkirchen
DESCRIPTION:
URL:https://grieskirchen-eferding.spooe.at/termin/sonnwendfeuer-in-hartkirchen-2/
END:VEVENT
BEGIN:VEVENT
DTSTART;TZID=Europe/Vienna:20180624T100000
DTEND;TZID=Europe/Vienna:20180624T100000
DTSTAMP:20260423T000817
CREATED:20180613T115610Z
LAST-MODIFIED:20180613T115610Z
UID:1788-1529834400-1529834400@grieskirchen-eferding.spooe.at
SUMMARY:Landeswandertag der SPÖ Bauern
DESCRIPTION:
URL:https://grieskirchen-eferding.spooe.at/termin/landeswandertag-der-spoe-bauern/
END:VEVENT
BEGIN:VEVENT
DTSTART;TZID=Europe/Vienna:20180630T190000
DTEND;TZID=Europe/Vienna:20180701T100000
DTSTAMP:20260423T000817
CREATED:20180611T115656Z
LAST-MODIFIED:20180611T115656Z
UID:1782-1530385200-1530439200@grieskirchen-eferding.spooe.at
SUMMARY:Weinfest in Weibern
DESCRIPTION:
URL:https://grieskirchen-eferding.spooe.at/termin/weinfest-in-weibern/
END:VEVENT
END:VCALENDAR