BEGIN:VCALENDAR
VERSION:2.0
PRODID:-//SPÖ Bezirksorganisation Grieskirchen/Eferding - ECPv6.15.20//NONSGML v1.0//EN
CALSCALE:GREGORIAN
METHOD:PUBLISH
X-ORIGINAL-URL:https://grieskirchen-eferding.spooe.at
X-WR-CALDESC:Veranstaltungen für SPÖ Bezirksorganisation Grieskirchen/Eferding
REFRESH-INTERVAL;VALUE=DURATION:PT1H
X-Robots-Tag:noindex
X-PUBLISHED-TTL:PT1H
BEGIN:VTIMEZONE
TZID:Europe/Vienna
BEGIN:DAYLIGHT
TZOFFSETFROM:+0100
TZOFFSETTO:+0200
TZNAME:CEST
DTSTART:20170326T010000
END:DAYLIGHT
BEGIN:STANDARD
TZOFFSETFROM:+0200
TZOFFSETTO:+0100
TZNAME:CET
DTSTART:20171029T010000
END:STANDARD
BEGIN:DAYLIGHT
TZOFFSETFROM:+0100
TZOFFSETTO:+0200
TZNAME:CEST
DTSTART:20180325T010000
END:DAYLIGHT
BEGIN:STANDARD
TZOFFSETFROM:+0200
TZOFFSETTO:+0100
TZNAME:CET
DTSTART:20181028T010000
END:STANDARD
BEGIN:DAYLIGHT
TZOFFSETFROM:+0100
TZOFFSETTO:+0200
TZNAME:CEST
DTSTART:20190331T010000
END:DAYLIGHT
BEGIN:STANDARD
TZOFFSETFROM:+0200
TZOFFSETTO:+0100
TZNAME:CET
DTSTART:20191027T010000
END:STANDARD
END:VTIMEZONE
BEGIN:VEVENT
DTSTART;TZID=Europe/Vienna:20180630T190000
DTEND;TZID=Europe/Vienna:20180701T100000
DTSTAMP:20260422T145024
CREATED:20180611T115656Z
LAST-MODIFIED:20180611T115656Z
UID:1782-1530385200-1530439200@grieskirchen-eferding.spooe.at
SUMMARY:Weinfest in Weibern
DESCRIPTION:
URL:https://grieskirchen-eferding.spooe.at/termin/weinfest-in-weibern/
END:VEVENT
BEGIN:VEVENT
DTSTART;TZID=Europe/Vienna:20180713T100000
DTEND;TZID=Europe/Vienna:20180713T110000
DTSTAMP:20260422T145024
CREATED:20180710T071045Z
LAST-MODIFIED:20180710T071045Z
UID:1815-1531476000-1531479600@grieskirchen-eferding.spooe.at
SUMMARY:Telefonsprechstunde mit Soziallandesrätin Birgit Gerstorfer
DESCRIPTION:
URL:https://grieskirchen-eferding.spooe.at/termin/telefonsprechstunde-mit-soziallandesraetin-birgit-gerstorfer/
END:VEVENT
BEGIN:VEVENT
DTSTART;TZID=Europe/Vienna:20180714T080000
DTEND;TZID=Europe/Vienna:20180715T170000
DTSTAMP:20260422T145024
CREATED:20180619T082814Z
LAST-MODIFIED:20180619T082814Z
UID:1798-1531555200-1531674000@grieskirchen-eferding.spooe.at
SUMMARY:Erste Hilfe Grundkurs in Alkoven
DESCRIPTION:
URL:https://grieskirchen-eferding.spooe.at/termin/erste-hilfe-grundkurs-in-alkoven/
END:VEVENT
END:VCALENDAR