BEGIN:VCALENDAR
VERSION:2.0
PRODID:-//SPÖ Bezirksorganisation Grieskirchen/Eferding - ECPv6.15.20//NONSGML v1.0//EN
CALSCALE:GREGORIAN
METHOD:PUBLISH
X-WR-CALNAME:SPÖ Bezirksorganisation Grieskirchen/Eferding
X-ORIGINAL-URL:https://grieskirchen-eferding.spooe.at
X-WR-CALDESC:Veranstaltungen für SPÖ Bezirksorganisation Grieskirchen/Eferding
REFRESH-INTERVAL;VALUE=DURATION:PT1H
X-Robots-Tag:noindex
X-PUBLISHED-TTL:PT1H
BEGIN:VTIMEZONE
TZID:Europe/Vienna
BEGIN:DAYLIGHT
TZOFFSETFROM:+0100
TZOFFSETTO:+0200
TZNAME:CEST
DTSTART:20180325T010000
END:DAYLIGHT
BEGIN:STANDARD
TZOFFSETFROM:+0200
TZOFFSETTO:+0100
TZNAME:CET
DTSTART:20181028T010000
END:STANDARD
BEGIN:DAYLIGHT
TZOFFSETFROM:+0100
TZOFFSETTO:+0200
TZNAME:CEST
DTSTART:20190331T010000
END:DAYLIGHT
BEGIN:STANDARD
TZOFFSETFROM:+0200
TZOFFSETTO:+0100
TZNAME:CET
DTSTART:20191027T010000
END:STANDARD
BEGIN:DAYLIGHT
TZOFFSETFROM:+0100
TZOFFSETTO:+0200
TZNAME:CEST
DTSTART:20200329T010000
END:DAYLIGHT
BEGIN:STANDARD
TZOFFSETFROM:+0200
TZOFFSETTO:+0100
TZNAME:CET
DTSTART:20201025T010000
END:STANDARD
END:VTIMEZONE
BEGIN:VEVENT
DTSTART;TZID=Europe/Vienna:20190302T140000
DTEND;TZID=Europe/Vienna:20190302T140000
DTSTAMP:20260423T204426
CREATED:20190221T100427Z
LAST-MODIFIED:20190221T100436Z
UID:1936-1551535200-1551535200@grieskirchen-eferding.spooe.at
SUMMARY:Kinderfasching Schlüßlberg
DESCRIPTION:
URL:https://grieskirchen-eferding.spooe.at/termin/kinderfasching-schluesslberg-2/
END:VEVENT
BEGIN:VEVENT
DTSTART;TZID=Europe/Vienna:20190303T140000
DTEND;TZID=Europe/Vienna:20190303T140000
DTSTAMP:20260423T204426
CREATED:20190109T133157Z
LAST-MODIFIED:20190109T133157Z
UID:1902-1551621600-1551621600@grieskirchen-eferding.spooe.at
SUMMARY:Kinderfasching in Eferding
DESCRIPTION:
URL:https://grieskirchen-eferding.spooe.at/termin/kinderfasching-in-eferding-3/
END:VEVENT
END:VCALENDAR