BEGIN:VCALENDAR
VERSION:2.0
PRODID:-//SPÖ Bezirksorganisation Grieskirchen/Eferding - ECPv6.15.20//NONSGML v1.0//EN
CALSCALE:GREGORIAN
METHOD:PUBLISH
X-ORIGINAL-URL:https://grieskirchen-eferding.spooe.at
X-WR-CALDESC:Veranstaltungen für SPÖ Bezirksorganisation Grieskirchen/Eferding
REFRESH-INTERVAL;VALUE=DURATION:PT1H
X-Robots-Tag:noindex
X-PUBLISHED-TTL:PT1H
BEGIN:VTIMEZONE
TZID:Europe/Vienna
BEGIN:DAYLIGHT
TZOFFSETFROM:+0100
TZOFFSETTO:+0200
TZNAME:CEST
DTSTART:20180325T010000
END:DAYLIGHT
BEGIN:STANDARD
TZOFFSETFROM:+0200
TZOFFSETTO:+0100
TZNAME:CET
DTSTART:20181028T010000
END:STANDARD
BEGIN:DAYLIGHT
TZOFFSETFROM:+0100
TZOFFSETTO:+0200
TZNAME:CEST
DTSTART:20190331T010000
END:DAYLIGHT
BEGIN:STANDARD
TZOFFSETFROM:+0200
TZOFFSETTO:+0100
TZNAME:CET
DTSTART:20191027T010000
END:STANDARD
BEGIN:DAYLIGHT
TZOFFSETFROM:+0100
TZOFFSETTO:+0200
TZNAME:CEST
DTSTART:20200329T010000
END:DAYLIGHT
BEGIN:STANDARD
TZOFFSETFROM:+0200
TZOFFSETTO:+0100
TZNAME:CET
DTSTART:20201025T010000
END:STANDARD
END:VTIMEZONE
BEGIN:VEVENT
DTSTART;TZID=Europe/Vienna:20190509T080000
DTEND;TZID=Europe/Vienna:20190509T170000
DTSTAMP:20260423T234346
CREATED:20190509T120912Z
LAST-MODIFIED:20190509T120912Z
UID:1991-1557388800-1557421200@grieskirchen-eferding.spooe.at
SUMMARY:Nutze die Gelegenheit und triff Hannes Heide persönlich!
DESCRIPTION:
URL:https://grieskirchen-eferding.spooe.at/termin/nutze-die-gelegenheit-und-triff-hannes-heide-persoenlich/
END:VEVENT
BEGIN:VEVENT
DTSTART;TZID=Europe/Vienna:20190518T130000
DTEND;TZID=Europe/Vienna:20190518T130000
DTSTAMP:20260423T234346
CREATED:20190401T094220Z
LAST-MODIFIED:20190401T094220Z
UID:1958-1558184400-1558184400@grieskirchen-eferding.spooe.at
SUMMARY:Stöbelturnier der SPÖ Gallspach
DESCRIPTION:
URL:https://grieskirchen-eferding.spooe.at/termin/stoebelturnier-der-spoe-gallspach/
END:VEVENT
BEGIN:VEVENT
DTSTART;TZID=Europe/Vienna:20190519T100000
DTEND;TZID=Europe/Vienna:20190519T100000
DTSTAMP:20260423T234346
CREATED:20190514T124723Z
LAST-MODIFIED:20190514T124804Z
UID:1994-1558260000-1558260000@grieskirchen-eferding.spooe.at
SUMMARY:Maibaum-Frühschoppen in Geboltskirchen
DESCRIPTION:
URL:https://grieskirchen-eferding.spooe.at/termin/maibaum-fruehschoppen-in-geboltskirchen/
END:VEVENT
BEGIN:VEVENT
DTSTART;TZID=Europe/Vienna:20190519T103000
DTEND;TZID=Europe/Vienna:20190519T103000
DTSTAMP:20260423T234346
CREATED:20190508T073755Z
LAST-MODIFIED:20190508T073755Z
UID:1969-1558261800-1558261800@grieskirchen-eferding.spooe.at
SUMMARY:Maibaumfrühschoppen in Samarein
DESCRIPTION:
URL:https://grieskirchen-eferding.spooe.at/termin/maibaumfruehschoppen-in-samarein/
END:VEVENT
END:VCALENDAR