BEGIN:VCALENDAR
VERSION:2.0
PRODID:-//SPÖ Bezirksorganisation Grieskirchen/Eferding - ECPv6.15.20//NONSGML v1.0//EN
CALSCALE:GREGORIAN
METHOD:PUBLISH
X-WR-CALNAME:SPÖ Bezirksorganisation Grieskirchen/Eferding
X-ORIGINAL-URL:https://grieskirchen-eferding.spooe.at
X-WR-CALDESC:Veranstaltungen für SPÖ Bezirksorganisation Grieskirchen/Eferding
REFRESH-INTERVAL;VALUE=DURATION:PT1H
X-Robots-Tag:noindex
X-PUBLISHED-TTL:PT1H
BEGIN:VTIMEZONE
TZID:Europe/Vienna
BEGIN:DAYLIGHT
TZOFFSETFROM:+0100
TZOFFSETTO:+0200
TZNAME:CEST
DTSTART:20180325T010000
END:DAYLIGHT
BEGIN:STANDARD
TZOFFSETFROM:+0200
TZOFFSETTO:+0100
TZNAME:CET
DTSTART:20181028T010000
END:STANDARD
BEGIN:DAYLIGHT
TZOFFSETFROM:+0100
TZOFFSETTO:+0200
TZNAME:CEST
DTSTART:20190331T010000
END:DAYLIGHT
BEGIN:STANDARD
TZOFFSETFROM:+0200
TZOFFSETTO:+0100
TZNAME:CET
DTSTART:20191027T010000
END:STANDARD
BEGIN:DAYLIGHT
TZOFFSETFROM:+0100
TZOFFSETTO:+0200
TZNAME:CEST
DTSTART:20200329T010000
END:DAYLIGHT
BEGIN:STANDARD
TZOFFSETFROM:+0200
TZOFFSETTO:+0100
TZNAME:CET
DTSTART:20201025T010000
END:STANDARD
END:VTIMEZONE
BEGIN:VEVENT
DTSTART;TZID=Europe/Vienna:20190808T180000
DTEND;TZID=Europe/Vienna:20190808T180000
DTSTAMP:20260424T055016
CREATED:20190701T145440Z
LAST-MODIFIED:20190701T145614Z
UID:2013-1565287200-1565287200@grieskirchen-eferding.spooe.at
SUMMARY:Fisch im Park in Peuerbach
DESCRIPTION:Wie im Vorjahr veranstalten wir in Peuerbach am Schlosspark nahe dem Rathaus am\n8. August 2019\, 18 Uhr „FISCH IM PARK“ am Schlosspark in Peuerbach.\nDie SPÖ Gemeinderäte bieten selber zubereitete Steckerlfische\, geräucherte Forellen und Bratwürstl an.\nGetränke und Infrastruktur Cafe-Bar Auflauf.\nVA: SPÖ Peuerbach-Steegen \n \n 
URL:https://grieskirchen-eferding.spooe.at/termin/fisch-im-park-in-peuerbach/
ATTACH;FMTTYPE=image/jpeg:https://grieskirchen-eferding.spooe.at/wp-content/uploads/sites/6/2019/07/2018_08_30_Fisch-im-Park-06.jpg
END:VEVENT
BEGIN:VEVENT
DTSTART;TZID=Europe/Vienna:20190814T180000
DTEND;TZID=Europe/Vienna:20190814T210000
DTSTAMP:20260424T055016
CREATED:20190812T110546Z
LAST-MODIFIED:20190812T110546Z
UID:2029-1565805600-1565816400@grieskirchen-eferding.spooe.at
SUMMARY:Grätzlfest mit Würstlgrillen
DESCRIPTION:
URL:https://grieskirchen-eferding.spooe.at/termin/graetzlfest-mit-wuerstlgrillen/
END:VEVENT
BEGIN:VEVENT
DTSTART;TZID=Europe/Vienna:20190822T190000
DTEND;TZID=Europe/Vienna:20190822T210000
DTSTAMP:20260424T055016
CREATED:20190820T143302Z
LAST-MODIFIED:20190820T143302Z
UID:2042-1566500400-1566507600@grieskirchen-eferding.spooe.at
SUMMARY:Diskutiere mit LAbg. Christian Makor
DESCRIPTION:
URL:https://grieskirchen-eferding.spooe.at/termin/diskutiere-mit-labg-christian-makor/
END:VEVENT
BEGIN:VEVENT
DTSTART;TZID=Europe/Vienna:20190825T103000
DTEND;TZID=Europe/Vienna:20190825T103000
DTSTAMP:20260424T055016
CREATED:20190812T110801Z
LAST-MODIFIED:20190812T110801Z
UID:2033-1566729000-1566729000@grieskirchen-eferding.spooe.at
SUMMARY:Kulinarischer Frühschoppen der SPÖ Neukirchen-Eschenau
DESCRIPTION:
URL:https://grieskirchen-eferding.spooe.at/termin/kulinarischer-fruehschoppen-der-spoe-neukirchen-eschenau/
END:VEVENT
BEGIN:VEVENT
DTSTART;TZID=Europe/Vienna:20190829T183000
DTEND;TZID=Europe/Vienna:20190829T183000
DTSTAMP:20260424T055016
CREATED:20190822T092429Z
LAST-MODIFIED:20190822T092429Z
UID:2053-1567103400-1567103400@grieskirchen-eferding.spooe.at
SUMMARY:Diskussionsrunde mit Alois Stöger in Eferding
DESCRIPTION:
URL:https://grieskirchen-eferding.spooe.at/termin/diskussionsrunde-mit-alois-stoeger-in-eferding/
END:VEVENT
BEGIN:VEVENT
DTSTART;TZID=Europe/Vienna:20190829T190000
DTEND;TZID=Europe/Vienna:20190829T190000
DTSTAMP:20260424T055016
CREATED:20190822T092552Z
LAST-MODIFIED:20190822T092552Z
UID:2056-1567105200-1567105200@grieskirchen-eferding.spooe.at
SUMMARY:Diskussionsrunde mit Birgit Gerstorfer in Bad Schallerbach
DESCRIPTION:
URL:https://grieskirchen-eferding.spooe.at/termin/diskussionsrunde-mit-birgit-gerstorfer-in-bad-schallerbach/
END:VEVENT
BEGIN:VEVENT
DTSTART;TZID=Europe/Vienna:20190830T190000
DTEND;TZID=Europe/Vienna:20190830T190000
DTSTAMP:20260424T055016
CREATED:20190822T090434Z
LAST-MODIFIED:20190822T090434Z
UID:2049-1567191600-1567191600@grieskirchen-eferding.spooe.at
SUMMARY:Bezirkskonferenz
DESCRIPTION:
URL:https://grieskirchen-eferding.spooe.at/termin/bezirkskonferenz/
END:VEVENT
BEGIN:VEVENT
DTSTART;TZID=Europe/Vienna:20190831T100000
DTEND;TZID=Europe/Vienna:20190831T100000
DTSTAMP:20260424T055016
CREATED:20190822T085431Z
LAST-MODIFIED:20190822T085431Z
UID:2045-1567245600-1567245600@grieskirchen-eferding.spooe.at
SUMMARY:Familienfest in Bad Schallerbach
DESCRIPTION:
URL:https://grieskirchen-eferding.spooe.at/termin/familienfest-in-bad-schallerbach/
END:VEVENT
END:VCALENDAR