BEGIN:VCALENDAR
VERSION:2.0
PRODID:-//SPÖ Bezirksorganisation Grieskirchen/Eferding - ECPv6.15.20//NONSGML v1.0//EN
CALSCALE:GREGORIAN
METHOD:PUBLISH
X-WR-CALNAME:SPÖ Bezirksorganisation Grieskirchen/Eferding
X-ORIGINAL-URL:https://grieskirchen-eferding.spooe.at
X-WR-CALDESC:Veranstaltungen für SPÖ Bezirksorganisation Grieskirchen/Eferding
REFRESH-INTERVAL;VALUE=DURATION:PT1H
X-Robots-Tag:noindex
X-PUBLISHED-TTL:PT1H
BEGIN:VTIMEZONE
TZID:Europe/Vienna
BEGIN:DAYLIGHT
TZOFFSETFROM:+0100
TZOFFSETTO:+0200
TZNAME:CEST
DTSTART:20180325T010000
END:DAYLIGHT
BEGIN:STANDARD
TZOFFSETFROM:+0200
TZOFFSETTO:+0100
TZNAME:CET
DTSTART:20181028T010000
END:STANDARD
BEGIN:DAYLIGHT
TZOFFSETFROM:+0100
TZOFFSETTO:+0200
TZNAME:CEST
DTSTART:20190331T010000
END:DAYLIGHT
BEGIN:STANDARD
TZOFFSETFROM:+0200
TZOFFSETTO:+0100
TZNAME:CET
DTSTART:20191027T010000
END:STANDARD
BEGIN:DAYLIGHT
TZOFFSETFROM:+0100
TZOFFSETTO:+0200
TZNAME:CEST
DTSTART:20200329T010000
END:DAYLIGHT
BEGIN:STANDARD
TZOFFSETFROM:+0200
TZOFFSETTO:+0100
TZNAME:CET
DTSTART:20201025T010000
END:STANDARD
END:VTIMEZONE
BEGIN:VEVENT
DTSTART;TZID=Europe/Vienna:20190901T100000
DTEND;TZID=Europe/Vienna:20190901T100000
DTSTAMP:20260424T095842
CREATED:20190813T121921Z
LAST-MODIFIED:20190813T121921Z
UID:2035-1567332000-1567332000@grieskirchen-eferding.spooe.at
SUMMARY:Frühschoppen in St. Thomas
DESCRIPTION:
URL:https://grieskirchen-eferding.spooe.at/termin/fruehschoppen-in-st-thomas/
END:VEVENT
BEGIN:VEVENT
DTSTART;TZID=Europe/Vienna:20190908T120000
DTEND;TZID=Europe/Vienna:20190908T120000
DTSTAMP:20260424T095842
CREATED:20190814T161042Z
LAST-MODIFIED:20190814T161042Z
UID:2040-1567944000-1567944000@grieskirchen-eferding.spooe.at
SUMMARY:Stöbelturnier in Aistersheim
DESCRIPTION:
URL:https://grieskirchen-eferding.spooe.at/termin/stoebelturnier-in-aistersheim/
END:VEVENT
BEGIN:VEVENT
DTSTART;TZID=Europe/Vienna:20190910T183000
DTEND;TZID=Europe/Vienna:20190910T183000
DTSTAMP:20260424T095842
CREATED:20190828T135409Z
LAST-MODIFIED:20190828T135409Z
UID:2062-1568140200-1568140200@grieskirchen-eferding.spooe.at
SUMMARY:Diskutiere mit Christian Makor und Eva Holzleitner in Hinzenbach
DESCRIPTION:
URL:https://grieskirchen-eferding.spooe.at/termin/diskutiere-mit-christian-makor-und-eva-holzleitner-in-hinzenbach/
END:VEVENT
BEGIN:VEVENT
DTSTART;TZID=Europe/Vienna:20190918T200000
DTEND;TZID=Europe/Vienna:20190918T200000
DTSTAMP:20260424T095842
CREATED:20190822T092706Z
LAST-MODIFIED:20190822T092706Z
UID:2059-1568836800-1568836800@grieskirchen-eferding.spooe.at
SUMMARY:Diskussionsrunde mit Birgit Gerstorfer in Natternbach
DESCRIPTION:
URL:https://grieskirchen-eferding.spooe.at/termin/diskussionsrunde-mit-birgit-gerstorfer-in-natternbach/
END:VEVENT
BEGIN:VEVENT
DTSTART;TZID=Europe/Vienna:20190926T190000
DTEND;TZID=Europe/Vienna:20190926T190000
DTSTAMP:20260424T095842
CREATED:20190916T112428Z
LAST-MODIFIED:20190916T112428Z
UID:2083-1569524400-1569524400@grieskirchen-eferding.spooe.at
SUMMARY:Diskutiere mit Albert Maringer (Obmann der OÖGKK) in Pupping
DESCRIPTION:
URL:https://grieskirchen-eferding.spooe.at/termin/diskutiere-mit-albert-maringer-obmann-der-ooegkk-in-pupping/
END:VEVENT
END:VCALENDAR