BEGIN:VCALENDAR
VERSION:2.0
PRODID:-//SPÖ Bezirksorganisation Grieskirchen/Eferding - ECPv6.15.20//NONSGML v1.0//EN
CALSCALE:GREGORIAN
METHOD:PUBLISH
X-WR-CALNAME:SPÖ Bezirksorganisation Grieskirchen/Eferding
X-ORIGINAL-URL:https://grieskirchen-eferding.spooe.at
X-WR-CALDESC:Veranstaltungen für SPÖ Bezirksorganisation Grieskirchen/Eferding
REFRESH-INTERVAL;VALUE=DURATION:PT1H
X-Robots-Tag:noindex
X-PUBLISHED-TTL:PT1H
BEGIN:VTIMEZONE
TZID:Europe/Vienna
BEGIN:DAYLIGHT
TZOFFSETFROM:+0100
TZOFFSETTO:+0200
TZNAME:CEST
DTSTART:20190331T010000
END:DAYLIGHT
BEGIN:STANDARD
TZOFFSETFROM:+0200
TZOFFSETTO:+0100
TZNAME:CET
DTSTART:20191027T010000
END:STANDARD
BEGIN:DAYLIGHT
TZOFFSETFROM:+0100
TZOFFSETTO:+0200
TZNAME:CEST
DTSTART:20200329T010000
END:DAYLIGHT
BEGIN:STANDARD
TZOFFSETFROM:+0200
TZOFFSETTO:+0100
TZNAME:CET
DTSTART:20201025T010000
END:STANDARD
BEGIN:DAYLIGHT
TZOFFSETFROM:+0100
TZOFFSETTO:+0200
TZNAME:CEST
DTSTART:20210328T010000
END:DAYLIGHT
BEGIN:STANDARD
TZOFFSETFROM:+0200
TZOFFSETTO:+0100
TZNAME:CET
DTSTART:20211031T010000
END:STANDARD
END:VTIMEZONE
BEGIN:VEVENT
DTSTART;TZID=Europe/Vienna:20200112T140000
DTEND;TZID=Europe/Vienna:20200112T170000
DTSTAMP:20260424T180059
CREATED:20191216T174351Z
LAST-MODIFIED:20191216T174351Z
UID:2110-1578837600-1578848400@grieskirchen-eferding.spooe.at
SUMMARY:Samareiner Kinderfasching
DESCRIPTION:
URL:https://grieskirchen-eferding.spooe.at/termin/samareiner-kinderfasching/
END:VEVENT
BEGIN:VEVENT
DTSTART;TZID=Europe/Vienna:20200125T060000
DTEND;TZID=Europe/Vienna:20200125T060000
DTSTAMP:20260424T180059
CREATED:20191216T174630Z
LAST-MODIFIED:20191216T174630Z
UID:2112-1579932000-1579932000@grieskirchen-eferding.spooe.at
SUMMARY:Fahrt zum Hahnenkammrennen nach Kitzbühel
DESCRIPTION:
URL:https://grieskirchen-eferding.spooe.at/termin/fahrt-zum-hahnenkammrennen-nach-kitzbuehel/
END:VEVENT
END:VCALENDAR