BEGIN:VCALENDAR
VERSION:2.0
PRODID:-//SPÖ Bezirksorganisation Grieskirchen/Eferding - ECPv6.15.20//NONSGML v1.0//EN
CALSCALE:GREGORIAN
METHOD:PUBLISH
X-ORIGINAL-URL:https://grieskirchen-eferding.spooe.at
X-WR-CALDESC:Veranstaltungen für SPÖ Bezirksorganisation Grieskirchen/Eferding
REFRESH-INTERVAL;VALUE=DURATION:PT1H
X-Robots-Tag:noindex
X-PUBLISHED-TTL:PT1H
BEGIN:VTIMEZONE
TZID:Europe/Vienna
BEGIN:DAYLIGHT
TZOFFSETFROM:+0100
TZOFFSETTO:+0200
TZNAME:CEST
DTSTART:20190331T010000
END:DAYLIGHT
BEGIN:STANDARD
TZOFFSETFROM:+0200
TZOFFSETTO:+0100
TZNAME:CET
DTSTART:20191027T010000
END:STANDARD
BEGIN:DAYLIGHT
TZOFFSETFROM:+0100
TZOFFSETTO:+0200
TZNAME:CEST
DTSTART:20200329T010000
END:DAYLIGHT
BEGIN:STANDARD
TZOFFSETFROM:+0200
TZOFFSETTO:+0100
TZNAME:CET
DTSTART:20201025T010000
END:STANDARD
BEGIN:DAYLIGHT
TZOFFSETFROM:+0100
TZOFFSETTO:+0200
TZNAME:CEST
DTSTART:20210328T010000
END:DAYLIGHT
BEGIN:STANDARD
TZOFFSETFROM:+0200
TZOFFSETTO:+0100
TZNAME:CET
DTSTART:20211031T010000
END:STANDARD
END:VTIMEZONE
BEGIN:VEVENT
DTSTART;TZID=Europe/Vienna:20200201T140000
DTEND;TZID=Europe/Vienna:20200201T140000
DTSTAMP:20260424T193520
CREATED:20200121T100237Z
LAST-MODIFIED:20200121T100314Z
UID:2128-1580565600-1580565600@grieskirchen-eferding.spooe.at
SUMMARY:Kinderball in Wallern
DESCRIPTION:
URL:https://grieskirchen-eferding.spooe.at/termin/kinderball-in-wallern/
END:VEVENT
BEGIN:VEVENT
DTSTART;TZID=Europe/Vienna:20200206T190000
DTEND;TZID=Europe/Vienna:20200206T190000
DTSTAMP:20260424T193520
CREATED:20200114T151447Z
LAST-MODIFIED:20200114T151447Z
UID:2121-1581015600-1581015600@grieskirchen-eferding.spooe.at
SUMMARY:Club Rot Bezirk Grieskirchen in Weibern
DESCRIPTION:
URL:https://grieskirchen-eferding.spooe.at/termin/club-rot-bezirk-grieskirchen-in-weibern/
END:VEVENT
BEGIN:VEVENT
DTSTART;TZID=Europe/Vienna:20200222T140000
DTEND;TZID=Europe/Vienna:20200222T170000
DTSTAMP:20260424T193520
CREATED:20200217T100321Z
LAST-MODIFIED:20200217T100321Z
UID:2150-1582380000-1582390800@grieskirchen-eferding.spooe.at
SUMMARY:Kinderfasching in Schlüßlberg
DESCRIPTION:
URL:https://grieskirchen-eferding.spooe.at/termin/kinderfasching-in-schluesslberg-2/
END:VEVENT
BEGIN:VEVENT
DTSTART;TZID=Europe/Vienna:20200222T143000
DTEND;TZID=Europe/Vienna:20200222T143000
DTSTAMP:20260424T193520
CREATED:20191216T174237Z
LAST-MODIFIED:20191216T180645Z
UID:2106-1582381800-1582381800@grieskirchen-eferding.spooe.at
SUMMARY:Kinderfasching in Eferding
DESCRIPTION:
URL:https://grieskirchen-eferding.spooe.at/termin/kinderfasching-in-eferding-4/
END:VEVENT
BEGIN:VEVENT
DTSTART;TZID=Europe/Vienna:20200223T140000
DTEND;TZID=Europe/Vienna:20200223T170000
DTSTAMP:20260424T193520
CREATED:20200217T100155Z
LAST-MODIFIED:20200217T100155Z
UID:2147-1582466400-1582477200@grieskirchen-eferding.spooe.at
SUMMARY:Kinderfasching in Gallspach
DESCRIPTION:
URL:https://grieskirchen-eferding.spooe.at/termin/kinderfasching-in-gallspach/
END:VEVENT
END:VCALENDAR